BEGIN:VCALENDAR
VERSION:2.0
PRODID:Imitheme.com 
BEGIN:VEVENT
UID:20260424T1327321332550399
DTSTAMP;TZID=UTC:2026-04-24 13:27:32
DTSTART;TZID=America/Los_Angeles:20260621T000000
DTEND;TZID=America/Los_Angeles:20260621T000000
SUMMARY:Oldtimertoerrit door ons Groninger land
LOCATION:t\, Scheuveltje Buitengewoon Blijham
DESCRIPTION:Oldtimer toerrit Blijham op 21 juni 2026Een jaarlijks terugkerend evenement voor auto\'s ouder dan 25 jaar. Met halverwege koffie/thee met gebak op leuke locatie. De route gaat door 4 gemeenten in het Groninger land. De routebeschrijving is eenvoudig en duidelijk. Deelname staat open voor auto\'s van 25 jaar en ouder. Start om 13.30 uur bij t\' Scheuveltje Ijsbaan/Speedwaybaan in Blijham, Verschedijk 2. Hier is ook het einde van de rit. De kosten bedragen € 37.50 p/auto (2 pers). Extra inzittenden € 12,50 pp. Dit is inclusief Rallybord, koffie/thee met gebak op leuke locatie, 1 consumptie na afloop. EnDeelname is altijd op eigen risico. Uw betaling is uw deelnamebewijs. Als u op \"AANMELDEN\" klikt komt u direct in het betalingssysteem.
URL:https://dekkerrondvaarten.nl/eventer/oldtimertoerrit-door-het-groninger-land/
END:VEVENT
END:VCALENDAR
