BEGIN:VCALENDAR
VERSION:2.0
PRODID:Imitheme.com 
BEGIN:VEVENT
UID:20260420T1049441965467925
DTSTAMP;TZID=UTC:2026-04-20 10:49:44
DTSTART;TZID=America/Los_Angeles:20260613T000000
DTEND;TZID=America/Los_Angeles:20260613T000000
SUMMARY:Dagtocht varen Blauwestad, lunch, historische scheepswerf Wolthuis
LOCATION:Arsenaal\, Blauwestad
DESCRIPTION:Vaartocht We maken een vaartocht door een gedeelte langs de woongebieden van Blauwestad. Aan boord 2x koffie/thee met cake.Lunch Terug in de haven staat de klassieke \"Waterliner\" bus voor u klaar om u naar uw lunchadres te brengen. Laat u verrassen.Scheepswerf Wolthuis We vertrekken met de bus naar de historische Scheepswerf Wolthuis in Sappemeer. Natuurlijk een rondleiding met koffie en koek.Einde arrangement Terug in de haven van de Blauwestad. Einde arrangement.
URL:https://dekkerrondvaarten.nl/eventer/dagtocht-varen-blauwestad-lunch-historische-scheepswerf-wolthuis/
END:VEVENT
END:VCALENDAR
