BEGIN:VCALENDAR
VERSION:2.0
PRODID:Imitheme.com 
BEGIN:VEVENT
UID:20260420T0121361512745116
DTSTAMP;TZID=UTC:2026-04-20 01:21:36
DTSTART;TZID=America/Los_Angeles:20260610T000000
DTEND;TZID=America/Los_Angeles:20260610T000000
SUMMARY:Dagtocht met varen in de Blauwestad, lunch en rondrit Westerwolde
LOCATION:Arsenaal\, Blauwestad
DESCRIPTION:We beginnen met een rondvaart door de Blauwestad. Dit is ons 20ste vaarseizoen en je herkend het niet meer terug. Wat een veranderingen. Aan boord incl. 2 x koffie/thee met cake. Om 12 uur gaan we de klassieke bus in en rijden naar een leuke locatie voor de lunch. Tegen 14.00 uur gaan we richting Westerwolde, groen en rust! Hier voelt het ijsvogeltje zich thuis en zien we van die mooie idyllische doorkijkjes. Halverwege een pitstop op leuke locatie. Tegen 17.00 uur zijn we terug in de Blauwestad.
URL:https://dekkerrondvaarten.nl/eventer/vaartocht-blauwestad/
END:VEVENT
END:VCALENDAR
